BEGIN:VCALENDAR
VERSION:2.0
PRODID:-//Discover Cottage Grove MN - ECPv6.15.17.1//NONSGML v1.0//EN
CALSCALE:GREGORIAN
METHOD:PUBLISH
X-ORIGINAL-URL:https://discovercottagegrove.com
X-WR-CALDESC:Events for Discover Cottage Grove MN
REFRESH-INTERVAL;VALUE=DURATION:PT1H
X-Robots-Tag:noindex
X-PUBLISHED-TTL:PT1H
BEGIN:VTIMEZONE
TZID:America/Chicago
BEGIN:DAYLIGHT
TZOFFSETFROM:-0600
TZOFFSETTO:-0500
TZNAME:CDT
DTSTART:20240310T080000
END:DAYLIGHT
BEGIN:STANDARD
TZOFFSETFROM:-0500
TZOFFSETTO:-0600
TZNAME:CST
DTSTART:20241103T070000
END:STANDARD
BEGIN:DAYLIGHT
TZOFFSETFROM:-0600
TZOFFSETTO:-0500
TZNAME:CDT
DTSTART:20250309T080000
END:DAYLIGHT
BEGIN:STANDARD
TZOFFSETFROM:-0500
TZOFFSETTO:-0600
TZNAME:CST
DTSTART:20251102T070000
END:STANDARD
BEGIN:DAYLIGHT
TZOFFSETFROM:-0600
TZOFFSETTO:-0500
TZNAME:CDT
DTSTART:20260308T080000
END:DAYLIGHT
BEGIN:STANDARD
TZOFFSETFROM:-0500
TZOFFSETTO:-0600
TZNAME:CST
DTSTART:20261101T070000
END:STANDARD
END:VTIMEZONE
BEGIN:VEVENT
DTSTART;TZID=America/Chicago:20251113T173000
DTEND;TZID=America/Chicago:20251113T193000
DTSTAMP:20260415T052841
CREATED:20250825T194448Z
LAST-MODIFIED:20251114T004339Z
UID:10005201-1763055000-1763062200@discovercottagegrove.com
SUMMARY:Virtual: Flash Memoir for Creating Community
DESCRIPTION:Sharing our stories is one of the fastest ways to create community. This one-off\, online workshop by teaching artist Jen Scott offers a structured space for conversation\, prompted writing\, and optional space to share at the end. No experience necessary!
URL:https://discovercottagegrove.com/event/virtual-flash-memoir-for-creating-community/
LOCATION:Virtual Meeting\, Park Grove Library
CATEGORIES:Library,Lifelong Learning
ORGANIZER;CN="Kate Dougan":MAILTO:kate.dougan@washingtoncountymn.gov
END:VEVENT
END:VCALENDAR