BEGIN:VCALENDAR
VERSION:2.0
PRODID:-//Discover Cottage Grove MN - ECPv6.15.17.1//NONSGML v1.0//EN
CALSCALE:GREGORIAN
METHOD:PUBLISH
X-WR-CALNAME:Discover Cottage Grove MN
X-ORIGINAL-URL:https://discovercottagegrove.com
X-WR-CALDESC:Events for Discover Cottage Grove MN
REFRESH-INTERVAL;VALUE=DURATION:PT1H
X-Robots-Tag:noindex
X-PUBLISHED-TTL:PT1H
BEGIN:VTIMEZONE
TZID:America/Chicago
BEGIN:DAYLIGHT
TZOFFSETFROM:-0600
TZOFFSETTO:-0500
TZNAME:CDT
DTSTART:20240310T080000
END:DAYLIGHT
BEGIN:STANDARD
TZOFFSETFROM:-0500
TZOFFSETTO:-0600
TZNAME:CST
DTSTART:20241103T070000
END:STANDARD
BEGIN:DAYLIGHT
TZOFFSETFROM:-0600
TZOFFSETTO:-0500
TZNAME:CDT
DTSTART:20250309T080000
END:DAYLIGHT
BEGIN:STANDARD
TZOFFSETFROM:-0500
TZOFFSETTO:-0600
TZNAME:CST
DTSTART:20251102T070000
END:STANDARD
BEGIN:DAYLIGHT
TZOFFSETFROM:-0600
TZOFFSETTO:-0500
TZNAME:CDT
DTSTART:20260308T080000
END:DAYLIGHT
BEGIN:STANDARD
TZOFFSETFROM:-0500
TZOFFSETTO:-0600
TZNAME:CST
DTSTART:20261101T070000
END:STANDARD
END:VTIMEZONE
BEGIN:VEVENT
DTSTART;TZID=America/Chicago:20251028T170000
DTEND;TZID=America/Chicago:20251028T200000
DTSTAMP:20260417T062713
CREATED:20250617T152252Z
LAST-MODIFIED:20250617T152252Z
UID:10005017-1761670800-1761681600@discovercottagegrove.com
SUMMARY:Johnny No Cash Band @ VFW
DESCRIPTION:Beginning Tuesday\, June 3rd\, playing EVERY Tuesday 5-8 pm for Tacos & Twang. Playing all your favorite classic Country & Western and Honky-Tonk tunes for Two-Stepping\, Line Dancing\, Waltzing and even a few Polkas! Great food menu & drinks\, and the back bar IS OPEN! $5 cover charge.
URL:https://discovercottagegrove.com/event/johnny-no-cash-band-vfw/2025-10-28/
LOCATION:Red Barn VFW\, 9260 E point Douglas Road S\, Cottage Grove\, MN\, 55016\, United States
ORGANIZER;CN="Cottage Grove VFW Post 8752":MAILTO:connie.wylie@vfwpost8752.org
END:VEVENT
BEGIN:VEVENT
DTSTART;TZID=America/Chicago:20251021T170000
DTEND;TZID=America/Chicago:20251021T200000
DTSTAMP:20260417T062713
CREATED:20250617T152252Z
LAST-MODIFIED:20250617T152252Z
UID:10005016-1761066000-1761076800@discovercottagegrove.com
SUMMARY:Johnny No Cash Band @ VFW
DESCRIPTION:Beginning Tuesday\, June 3rd\, playing EVERY Tuesday 5-8 pm for Tacos & Twang. Playing all your favorite classic Country & Western and Honky-Tonk tunes for Two-Stepping\, Line Dancing\, Waltzing and even a few Polkas! Great food menu & drinks\, and the back bar IS OPEN! $5 cover charge.
URL:https://discovercottagegrove.com/event/johnny-no-cash-band-vfw/2025-10-21/
LOCATION:Red Barn VFW\, 9260 E point Douglas Road S\, Cottage Grove\, MN\, 55016\, United States
ORGANIZER;CN="Cottage Grove VFW Post 8752":MAILTO:connie.wylie@vfwpost8752.org
END:VEVENT
BEGIN:VEVENT
DTSTART;TZID=America/Chicago:20251014T170000
DTEND;TZID=America/Chicago:20251014T200000
DTSTAMP:20260417T062713
CREATED:20250617T152252Z
LAST-MODIFIED:20250617T152252Z
UID:10005015-1760461200-1760472000@discovercottagegrove.com
SUMMARY:Johnny No Cash Band @ VFW
DESCRIPTION:Beginning Tuesday\, June 3rd\, playing EVERY Tuesday 5-8 pm for Tacos & Twang. Playing all your favorite classic Country & Western and Honky-Tonk tunes for Two-Stepping\, Line Dancing\, Waltzing and even a few Polkas! Great food menu & drinks\, and the back bar IS OPEN! $5 cover charge.
URL:https://discovercottagegrove.com/event/johnny-no-cash-band-vfw/2025-10-14/
LOCATION:Red Barn VFW\, 9260 E point Douglas Road S\, Cottage Grove\, MN\, 55016\, United States
ORGANIZER;CN="Cottage Grove VFW Post 8752":MAILTO:connie.wylie@vfwpost8752.org
END:VEVENT
BEGIN:VEVENT
DTSTART;TZID=America/Chicago:20251007T170000
DTEND;TZID=America/Chicago:20251007T200000
DTSTAMP:20260417T062713
CREATED:20250617T152252Z
LAST-MODIFIED:20250617T152252Z
UID:10005014-1759856400-1759867200@discovercottagegrove.com
SUMMARY:Johnny No Cash Band @ VFW
DESCRIPTION:Beginning Tuesday\, June 3rd\, playing EVERY Tuesday 5-8 pm for Tacos & Twang. Playing all your favorite classic Country & Western and Honky-Tonk tunes for Two-Stepping\, Line Dancing\, Waltzing and even a few Polkas! Great food menu & drinks\, and the back bar IS OPEN! $5 cover charge.
URL:https://discovercottagegrove.com/event/johnny-no-cash-band-vfw/2025-10-07/
LOCATION:Red Barn VFW\, 9260 E point Douglas Road S\, Cottage Grove\, MN\, 55016\, United States
ORGANIZER;CN="Cottage Grove VFW Post 8752":MAILTO:connie.wylie@vfwpost8752.org
END:VEVENT
BEGIN:VEVENT
DTSTART;TZID=America/Chicago:20250930T170000
DTEND;TZID=America/Chicago:20250930T200000
DTSTAMP:20260417T062713
CREATED:20250617T152252Z
LAST-MODIFIED:20250617T152252Z
UID:10005013-1759251600-1759262400@discovercottagegrove.com
SUMMARY:Johnny No Cash Band @ VFW
DESCRIPTION:Beginning Tuesday\, June 3rd\, playing EVERY Tuesday 5-8 pm for Tacos & Twang. Playing all your favorite classic Country & Western and Honky-Tonk tunes for Two-Stepping\, Line Dancing\, Waltzing and even a few Polkas! Great food menu & drinks\, and the back bar IS OPEN! $5 cover charge.
URL:https://discovercottagegrove.com/event/johnny-no-cash-band-vfw/2025-09-30/
LOCATION:Red Barn VFW\, 9260 E point Douglas Road S\, Cottage Grove\, MN\, 55016\, United States
ORGANIZER;CN="Cottage Grove VFW Post 8752":MAILTO:connie.wylie@vfwpost8752.org
END:VEVENT
BEGIN:VEVENT
DTSTART;TZID=America/Chicago:20250923T170000
DTEND;TZID=America/Chicago:20250923T200000
DTSTAMP:20260417T062713
CREATED:20250617T152252Z
LAST-MODIFIED:20250617T152252Z
UID:10005012-1758646800-1758657600@discovercottagegrove.com
SUMMARY:Johnny No Cash Band @ VFW
DESCRIPTION:Beginning Tuesday\, June 3rd\, playing EVERY Tuesday 5-8 pm for Tacos & Twang. Playing all your favorite classic Country & Western and Honky-Tonk tunes for Two-Stepping\, Line Dancing\, Waltzing and even a few Polkas! Great food menu & drinks\, and the back bar IS OPEN! $5 cover charge.
URL:https://discovercottagegrove.com/event/johnny-no-cash-band-vfw/2025-09-23/
LOCATION:Red Barn VFW\, 9260 E point Douglas Road S\, Cottage Grove\, MN\, 55016\, United States
ORGANIZER;CN="Cottage Grove VFW Post 8752":MAILTO:connie.wylie@vfwpost8752.org
END:VEVENT
BEGIN:VEVENT
DTSTART;TZID=America/Chicago:20250916T170000
DTEND;TZID=America/Chicago:20250916T200000
DTSTAMP:20260417T062713
CREATED:20250617T152252Z
LAST-MODIFIED:20250617T152252Z
UID:10005011-1758042000-1758052800@discovercottagegrove.com
SUMMARY:Johnny No Cash Band @ VFW
DESCRIPTION:Beginning Tuesday\, June 3rd\, playing EVERY Tuesday 5-8 pm for Tacos & Twang. Playing all your favorite classic Country & Western and Honky-Tonk tunes for Two-Stepping\, Line Dancing\, Waltzing and even a few Polkas! Great food menu & drinks\, and the back bar IS OPEN! $5 cover charge.
URL:https://discovercottagegrove.com/event/johnny-no-cash-band-vfw/2025-09-16/
LOCATION:Red Barn VFW\, 9260 E point Douglas Road S\, Cottage Grove\, MN\, 55016\, United States
ORGANIZER;CN="Cottage Grove VFW Post 8752":MAILTO:connie.wylie@vfwpost8752.org
END:VEVENT
BEGIN:VEVENT
DTSTART;TZID=America/Chicago:20250909T170000
DTEND;TZID=America/Chicago:20250909T200000
DTSTAMP:20260417T062713
CREATED:20250617T152252Z
LAST-MODIFIED:20250617T152252Z
UID:10005010-1757437200-1757448000@discovercottagegrove.com
SUMMARY:Johnny No Cash Band @ VFW
DESCRIPTION:Beginning Tuesday\, June 3rd\, playing EVERY Tuesday 5-8 pm for Tacos & Twang. Playing all your favorite classic Country & Western and Honky-Tonk tunes for Two-Stepping\, Line Dancing\, Waltzing and even a few Polkas! Great food menu & drinks\, and the back bar IS OPEN! $5 cover charge.
URL:https://discovercottagegrove.com/event/johnny-no-cash-band-vfw/2025-09-09/
LOCATION:Red Barn VFW\, 9260 E point Douglas Road S\, Cottage Grove\, MN\, 55016\, United States
ORGANIZER;CN="Cottage Grove VFW Post 8752":MAILTO:connie.wylie@vfwpost8752.org
END:VEVENT
BEGIN:VEVENT
DTSTART;TZID=America/Chicago:20250902T170000
DTEND;TZID=America/Chicago:20250902T200000
DTSTAMP:20260417T062713
CREATED:20250617T152252Z
LAST-MODIFIED:20250617T152252Z
UID:10005009-1756832400-1756843200@discovercottagegrove.com
SUMMARY:Johnny No Cash Band @ VFW
DESCRIPTION:Beginning Tuesday\, June 3rd\, playing EVERY Tuesday 5-8 pm for Tacos & Twang. Playing all your favorite classic Country & Western and Honky-Tonk tunes for Two-Stepping\, Line Dancing\, Waltzing and even a few Polkas! Great food menu & drinks\, and the back bar IS OPEN! $5 cover charge.
URL:https://discovercottagegrove.com/event/johnny-no-cash-band-vfw/2025-09-02/
LOCATION:Red Barn VFW\, 9260 E point Douglas Road S\, Cottage Grove\, MN\, 55016\, United States
ORGANIZER;CN="Cottage Grove VFW Post 8752":MAILTO:connie.wylie@vfwpost8752.org
END:VEVENT
BEGIN:VEVENT
DTSTART;TZID=America/Chicago:20250826T170000
DTEND;TZID=America/Chicago:20250826T200000
DTSTAMP:20260417T062713
CREATED:20250617T152252Z
LAST-MODIFIED:20250617T152252Z
UID:10005008-1756227600-1756238400@discovercottagegrove.com
SUMMARY:Johnny No Cash Band @ VFW
DESCRIPTION:Beginning Tuesday\, June 3rd\, playing EVERY Tuesday 5-8 pm for Tacos & Twang. Playing all your favorite classic Country & Western and Honky-Tonk tunes for Two-Stepping\, Line Dancing\, Waltzing and even a few Polkas! Great food menu & drinks\, and the back bar IS OPEN! $5 cover charge.
URL:https://discovercottagegrove.com/event/johnny-no-cash-band-vfw/2025-08-26/
LOCATION:Red Barn VFW\, 9260 E point Douglas Road S\, Cottage Grove\, MN\, 55016\, United States
ORGANIZER;CN="Cottage Grove VFW Post 8752":MAILTO:connie.wylie@vfwpost8752.org
END:VEVENT
BEGIN:VEVENT
DTSTART;TZID=America/Chicago:20250819T170000
DTEND;TZID=America/Chicago:20250819T200000
DTSTAMP:20260417T062713
CREATED:20250617T152252Z
LAST-MODIFIED:20250617T152252Z
UID:10005007-1755622800-1755633600@discovercottagegrove.com
SUMMARY:Johnny No Cash Band @ VFW
DESCRIPTION:Beginning Tuesday\, June 3rd\, playing EVERY Tuesday 5-8 pm for Tacos & Twang. Playing all your favorite classic Country & Western and Honky-Tonk tunes for Two-Stepping\, Line Dancing\, Waltzing and even a few Polkas! Great food menu & drinks\, and the back bar IS OPEN! $5 cover charge.
URL:https://discovercottagegrove.com/event/johnny-no-cash-band-vfw/2025-08-19/
LOCATION:Red Barn VFW\, 9260 E point Douglas Road S\, Cottage Grove\, MN\, 55016\, United States
ORGANIZER;CN="Cottage Grove VFW Post 8752":MAILTO:connie.wylie@vfwpost8752.org
END:VEVENT
BEGIN:VEVENT
DTSTART;TZID=America/Chicago:20250812T170000
DTEND;TZID=America/Chicago:20250812T200000
DTSTAMP:20260417T062713
CREATED:20250617T152252Z
LAST-MODIFIED:20250617T152252Z
UID:10005006-1755018000-1755028800@discovercottagegrove.com
SUMMARY:Johnny No Cash Band @ VFW
DESCRIPTION:Beginning Tuesday\, June 3rd\, playing EVERY Tuesday 5-8 pm for Tacos & Twang. Playing all your favorite classic Country & Western and Honky-Tonk tunes for Two-Stepping\, Line Dancing\, Waltzing and even a few Polkas! Great food menu & drinks\, and the back bar IS OPEN! $5 cover charge.
URL:https://discovercottagegrove.com/event/johnny-no-cash-band-vfw/2025-08-12/
LOCATION:Red Barn VFW\, 9260 E point Douglas Road S\, Cottage Grove\, MN\, 55016\, United States
ORGANIZER;CN="Cottage Grove VFW Post 8752":MAILTO:connie.wylie@vfwpost8752.org
END:VEVENT
BEGIN:VEVENT
DTSTART;TZID=America/Chicago:20250805T170000
DTEND;TZID=America/Chicago:20250805T200000
DTSTAMP:20260417T062713
CREATED:20250617T152252Z
LAST-MODIFIED:20250617T152252Z
UID:10005005-1754413200-1754424000@discovercottagegrove.com
SUMMARY:Johnny No Cash Band @ VFW
DESCRIPTION:Beginning Tuesday\, June 3rd\, playing EVERY Tuesday 5-8 pm for Tacos & Twang. Playing all your favorite classic Country & Western and Honky-Tonk tunes for Two-Stepping\, Line Dancing\, Waltzing and even a few Polkas! Great food menu & drinks\, and the back bar IS OPEN! $5 cover charge.
URL:https://discovercottagegrove.com/event/johnny-no-cash-band-vfw/2025-08-05/
LOCATION:Red Barn VFW\, 9260 E point Douglas Road S\, Cottage Grove\, MN\, 55016\, United States
ORGANIZER;CN="Cottage Grove VFW Post 8752":MAILTO:connie.wylie@vfwpost8752.org
END:VEVENT
BEGIN:VEVENT
DTSTART;TZID=America/Chicago:20250729T170000
DTEND;TZID=America/Chicago:20250729T200000
DTSTAMP:20260417T062713
CREATED:20250617T152252Z
LAST-MODIFIED:20250617T152252Z
UID:10005004-1753808400-1753819200@discovercottagegrove.com
SUMMARY:Johnny No Cash Band @ VFW
DESCRIPTION:Beginning Tuesday\, June 3rd\, playing EVERY Tuesday 5-8 pm for Tacos & Twang. Playing all your favorite classic Country & Western and Honky-Tonk tunes for Two-Stepping\, Line Dancing\, Waltzing and even a few Polkas! Great food menu & drinks\, and the back bar IS OPEN! $5 cover charge.
URL:https://discovercottagegrove.com/event/johnny-no-cash-band-vfw/2025-07-29/
LOCATION:Red Barn VFW\, 9260 E point Douglas Road S\, Cottage Grove\, MN\, 55016\, United States
ORGANIZER;CN="Cottage Grove VFW Post 8752":MAILTO:connie.wylie@vfwpost8752.org
END:VEVENT
BEGIN:VEVENT
DTSTART;TZID=America/Chicago:20250722T170000
DTEND;TZID=America/Chicago:20250722T200000
DTSTAMP:20260417T062713
CREATED:20250617T152252Z
LAST-MODIFIED:20250617T152252Z
UID:10005003-1753203600-1753214400@discovercottagegrove.com
SUMMARY:Johnny No Cash Band @ VFW
DESCRIPTION:Beginning Tuesday\, June 3rd\, playing EVERY Tuesday 5-8 pm for Tacos & Twang. Playing all your favorite classic Country & Western and Honky-Tonk tunes for Two-Stepping\, Line Dancing\, Waltzing and even a few Polkas! Great food menu & drinks\, and the back bar IS OPEN! $5 cover charge.
URL:https://discovercottagegrove.com/event/johnny-no-cash-band-vfw/2025-07-22/
LOCATION:Red Barn VFW\, 9260 E point Douglas Road S\, Cottage Grove\, MN\, 55016\, United States
ORGANIZER;CN="Cottage Grove VFW Post 8752":MAILTO:connie.wylie@vfwpost8752.org
END:VEVENT
BEGIN:VEVENT
DTSTART;TZID=America/Chicago:20250715T170000
DTEND;TZID=America/Chicago:20250715T200000
DTSTAMP:20260417T062713
CREATED:20250617T152252Z
LAST-MODIFIED:20250617T152252Z
UID:10005002-1752598800-1752609600@discovercottagegrove.com
SUMMARY:Johnny No Cash Band @ VFW
DESCRIPTION:Beginning Tuesday\, June 3rd\, playing EVERY Tuesday 5-8 pm for Tacos & Twang. Playing all your favorite classic Country & Western and Honky-Tonk tunes for Two-Stepping\, Line Dancing\, Waltzing and even a few Polkas! Great food menu & drinks\, and the back bar IS OPEN! $5 cover charge.
URL:https://discovercottagegrove.com/event/johnny-no-cash-band-vfw/2025-07-15/
LOCATION:Red Barn VFW\, 9260 E point Douglas Road S\, Cottage Grove\, MN\, 55016\, United States
ORGANIZER;CN="Cottage Grove VFW Post 8752":MAILTO:connie.wylie@vfwpost8752.org
END:VEVENT
BEGIN:VEVENT
DTSTART;TZID=America/Chicago:20250708T170000
DTEND;TZID=America/Chicago:20250708T200000
DTSTAMP:20260417T062713
CREATED:20250617T152252Z
LAST-MODIFIED:20250617T152252Z
UID:10005001-1751994000-1752004800@discovercottagegrove.com
SUMMARY:Johnny No Cash Band @ VFW
DESCRIPTION:Beginning Tuesday\, June 3rd\, playing EVERY Tuesday 5-8 pm for Tacos & Twang. Playing all your favorite classic Country & Western and Honky-Tonk tunes for Two-Stepping\, Line Dancing\, Waltzing and even a few Polkas! Great food menu & drinks\, and the back bar IS OPEN! $5 cover charge.
URL:https://discovercottagegrove.com/event/johnny-no-cash-band-vfw/2025-07-08/
LOCATION:Red Barn VFW\, 9260 E point Douglas Road S\, Cottage Grove\, MN\, 55016\, United States
ORGANIZER;CN="Cottage Grove VFW Post 8752":MAILTO:connie.wylie@vfwpost8752.org
END:VEVENT
BEGIN:VEVENT
DTSTART;TZID=America/Chicago:20250701T170000
DTEND;TZID=America/Chicago:20250701T200000
DTSTAMP:20260417T062713
CREATED:20250617T152252Z
LAST-MODIFIED:20250617T152252Z
UID:10005000-1751389200-1751400000@discovercottagegrove.com
SUMMARY:Johnny No Cash Band @ VFW
DESCRIPTION:Beginning Tuesday\, June 3rd\, playing EVERY Tuesday 5-8 pm for Tacos & Twang. Playing all your favorite classic Country & Western and Honky-Tonk tunes for Two-Stepping\, Line Dancing\, Waltzing and even a few Polkas! Great food menu & drinks\, and the back bar IS OPEN! $5 cover charge.
URL:https://discovercottagegrove.com/event/johnny-no-cash-band-vfw/2025-07-01/
LOCATION:Red Barn VFW\, 9260 E point Douglas Road S\, Cottage Grove\, MN\, 55016\, United States
ORGANIZER;CN="Cottage Grove VFW Post 8752":MAILTO:connie.wylie@vfwpost8752.org
END:VEVENT
BEGIN:VEVENT
DTSTART;TZID=America/Chicago:20250624T170000
DTEND;TZID=America/Chicago:20250624T200000
DTSTAMP:20260417T062713
CREATED:20250617T152252Z
LAST-MODIFIED:20250617T152252Z
UID:10004999-1750784400-1750795200@discovercottagegrove.com
SUMMARY:Johnny No Cash Band @ VFW
DESCRIPTION:Beginning Tuesday\, June 3rd\, playing EVERY Tuesday 5-8 pm for Tacos & Twang. Playing all your favorite classic Country & Western and Honky-Tonk tunes for Two-Stepping\, Line Dancing\, Waltzing and even a few Polkas! Great food menu & drinks\, and the back bar IS OPEN! $5 cover charge.
URL:https://discovercottagegrove.com/event/johnny-no-cash-band-vfw/2025-06-24/
LOCATION:Red Barn VFW\, 9260 E point Douglas Road S\, Cottage Grove\, MN\, 55016\, United States
ORGANIZER;CN="Cottage Grove VFW Post 8752":MAILTO:connie.wylie@vfwpost8752.org
END:VEVENT
BEGIN:VEVENT
DTSTART;TZID=America/Chicago:20250617T170000
DTEND;TZID=America/Chicago:20250617T200000
DTSTAMP:20260417T062713
CREATED:20250617T152252Z
LAST-MODIFIED:20250617T152252Z
UID:10004998-1750179600-1750190400@discovercottagegrove.com
SUMMARY:Johnny No Cash Band @ VFW
DESCRIPTION:Beginning Tuesday\, June 3rd\, playing EVERY Tuesday 5-8 pm for Tacos & Twang. Playing all your favorite classic Country & Western and Honky-Tonk tunes for Two-Stepping\, Line Dancing\, Waltzing and even a few Polkas! Great food menu & drinks\, and the back bar IS OPEN! $5 cover charge.
URL:https://discovercottagegrove.com/event/johnny-no-cash-band-vfw/2025-06-17/
LOCATION:Red Barn VFW\, 9260 E point Douglas Road S\, Cottage Grove\, MN\, 55016\, United States
ORGANIZER;CN="Cottage Grove VFW Post 8752":MAILTO:connie.wylie@vfwpost8752.org
END:VEVENT
END:VCALENDAR